BEGIN:VCALENDAR
VERSION:2.0
PRODID:-//SCPA - ECPv5.16.4//NONSGML v1.0//EN
CALSCALE:GREGORIAN
METHOD:PUBLISH
X-WR-CALNAME:SCPA
X-ORIGINAL-URL:https://socolumbusprep.org
X-WR-CALDESC:Events for SCPA
BEGIN:VTIMEZONE
TZID:America/New_York
BEGIN:DAYLIGHT
TZOFFSETFROM:-0500
TZOFFSETTO:-0400
TZNAME:EDT
DTSTART:20200308T070000
END:DAYLIGHT
BEGIN:STANDARD
TZOFFSETFROM:-0400
TZOFFSETTO:-0500
TZNAME:EST
DTSTART:20201101T060000
END:STANDARD
END:VTIMEZONE
BEGIN:VEVENT
DTSTART;TZID=America/New_York:20200723T180000
DTEND;TZID=America/New_York:20200723T190000
DTSTAMP:20260425T222356
CREATED:20200714T191010Z
LAST-MODIFIED:20200721T150541Z
UID:3445-1595527200-1595530800@socolumbusprep.org
SUMMARY:Online Info Session: School Year Learning Options & Reopening
DESCRIPTION:This year ACCEL Schools is giving families a choice in learning options at South Columbus Preparatory Academy at Southfield. Attend our Online Information Session for important details! Families are asked to make their learning choice by Friday\, July 31st. \n20-21 School Year Learning Options & Reopening Meeting \nAt time of meeting\, log-on by visiting: https://us04web.zoom.us/j/8461966336?pwd=WWpzT2hpSEZtVDdybkxORTZOanZJUT09 \nMeeting ID: 846 196 6336 \nPassword: SCPA
URL:https://socolumbusprep.org/event/online-info-session-school-year-learning-options-re-opening/
CATEGORIES:Calendar Only,Prospective Families, Events, Home
END:VEVENT
END:VCALENDAR