BEGIN:VCALENDAR
VERSION:2.0
PRODID:-//SCPA - ECPv5.16.4//NONSGML v1.0//EN
CALSCALE:GREGORIAN
METHOD:PUBLISH
X-WR-CALNAME:SCPA
X-ORIGINAL-URL:https://socolumbusprep.org
X-WR-CALDESC:Events for SCPA
BEGIN:VTIMEZONE
TZID:America/New_York
BEGIN:DAYLIGHT
TZOFFSETFROM:-0500
TZOFFSETTO:-0400
TZNAME:EDT
DTSTART:20240310T070000
END:DAYLIGHT
BEGIN:STANDARD
TZOFFSETFROM:-0400
TZOFFSETTO:-0500
TZNAME:EST
DTSTART:20241103T060000
END:STANDARD
END:VTIMEZONE
BEGIN:VEVENT
DTSTART;TZID=America/New_York:20240415T123000
DTEND;TZID=America/New_York:20240415T143000
DTSTAMP:20260425T120551
CREATED:20240329T195518Z
LAST-MODIFIED:20240329T195518Z
UID:8324-1713184200-1713191400@socolumbusprep.org
SUMMARY:Kindergarten Registration Day
DESCRIPTION:It’s time to register for Early K and Kindergarten! Join us to learn more about our school culture\, academics\, extracurricular programs\, and school services. Tour our campus\, meet our staff\, and preview our easy registration process! \nRSVP Today: socolumbusprep.org/events
URL:https://socolumbusprep.org/event/kindergarten-registration-day-2/
LOCATION:South Columbus Preparatory Academy at Southfield\, 3220 Groveport Road\, Columbus\, 43207\, United States
CATEGORIES:Calendar Only,Prospective Families, Events, Home
GEO:39.900718;-82.962531
X-APPLE-STRUCTURED-LOCATION;VALUE=URI;X-ADDRESS=South Columbus Preparatory Academy at Southfield 3220 Groveport Road Columbus 43207 United States;X-APPLE-RADIUS=500;X-TITLE=3220 Groveport Road:geo:-82.962531,39.900718
END:VEVENT
END:VCALENDAR