BEGIN:VCALENDAR
VERSION:2.0
PRODID:-//SCPA - ECPv5.16.4//NONSGML v1.0//EN
CALSCALE:GREGORIAN
METHOD:PUBLISH
X-WR-CALNAME:SCPA
X-ORIGINAL-URL:https://socolumbusprep.org
X-WR-CALDESC:Events for SCPA
BEGIN:VTIMEZONE
TZID:America/New_York
BEGIN:DAYLIGHT
TZOFFSETFROM:-0500
TZOFFSETTO:-0400
TZNAME:EDT
DTSTART:20230312T070000
END:DAYLIGHT
BEGIN:STANDARD
TZOFFSETFROM:-0400
TZOFFSETTO:-0500
TZNAME:EST
DTSTART:20231105T060000
END:STANDARD
END:VTIMEZONE
BEGIN:VEVENT
DTSTART;VALUE=DATE:20231009
DTEND;VALUE=DATE:20231010
DTSTAMP:20260425T141352
CREATED:20230609T161906Z
LAST-MODIFIED:20230609T161906Z
UID:7355-1696809600-1696895999@socolumbusprep.org
SUMMARY:Indigenous Peoples Day\, no school for students. Professional Development and  Parent-Teacher Conferences.
DESCRIPTION:
URL:https://socolumbusprep.org/event/indigenous-peoples-day-no-school-students-professional-development-parent-teacher-conferences/
LOCATION:South Columbus Preparatory Academy at Southfield\, 3220 Groveport Road\, Columbus\, 43207\, United States
CATEGORIES:Calendar Only
GEO:39.900718;-82.962531
X-APPLE-STRUCTURED-LOCATION;VALUE=URI;X-ADDRESS=South Columbus Preparatory Academy at Southfield 3220 Groveport Road Columbus 43207 United States;X-APPLE-RADIUS=500;X-TITLE=3220 Groveport Road:geo:-82.962531,39.900718
END:VEVENT
END:VCALENDAR