BEGIN:VCALENDAR
VERSION:2.0
PRODID:-//SCPA - ECPv5.16.4//NONSGML v1.0//EN
CALSCALE:GREGORIAN
METHOD:PUBLISH
X-WR-CALNAME:SCPA
X-ORIGINAL-URL:https://socolumbusprep.org
X-WR-CALDESC:Events for SCPA
BEGIN:VTIMEZONE
TZID:America/New_York
BEGIN:DAYLIGHT
TZOFFSETFROM:-0500
TZOFFSETTO:-0400
TZNAME:EDT
DTSTART:20200308T070000
END:DAYLIGHT
BEGIN:STANDARD
TZOFFSETFROM:-0400
TZOFFSETTO:-0500
TZNAME:EST
DTSTART:20201101T060000
END:STANDARD
END:VTIMEZONE
BEGIN:VEVENT
DTSTART;VALUE=DATE:20200810
DTEND;VALUE=DATE:20200811
DTSTAMP:20260425T182854
CREATED:20200721T160827Z
LAST-MODIFIED:20200721T160827Z
UID:3505-1597017600-1597103999@socolumbusprep.org
SUMMARY:First Day of School
DESCRIPTION:
URL:https://socolumbusprep.org/event/first-day-school-3/
LOCATION:South Columbus Preparatory Academy at Southfield\, 3220 Groveport Road\, Columbus\, 43207\, United States
CATEGORIES:Prospective Families, Events, Home
GEO:39.900718;-82.962531
X-APPLE-STRUCTURED-LOCATION;VALUE=URI;X-ADDRESS=South Columbus Preparatory Academy at Southfield 3220 Groveport Road Columbus 43207 United States;X-APPLE-RADIUS=500;X-TITLE=3220 Groveport Road:geo:-82.962531,39.900718
END:VEVENT
END:VCALENDAR