BEGIN:VCALENDAR
VERSION:2.0
PRODID:-//SCPA - ECPv5.16.4//NONSGML v1.0//EN
CALSCALE:GREGORIAN
METHOD:PUBLISH
X-WR-CALNAME:SCPA
X-ORIGINAL-URL:https://socolumbusprep.org
X-WR-CALDESC:Events for SCPA
BEGIN:VTIMEZONE
TZID:America/New_York
BEGIN:DAYLIGHT
TZOFFSETFROM:-0500
TZOFFSETTO:-0400
TZNAME:EDT
DTSTART:20210314T070000
END:DAYLIGHT
BEGIN:STANDARD
TZOFFSETFROM:-0400
TZOFFSETTO:-0500
TZNAME:EST
DTSTART:20211107T060000
END:STANDARD
END:VTIMEZONE
BEGIN:VEVENT
DTSTART;TZID=America/New_York:20211012T180000
DTEND;TZID=America/New_York:20211012T180000
DTSTAMP:20260422T201037
CREATED:20210706T181907Z
LAST-MODIFIED:20210706T181907Z
UID:4834-1634061600-1634061600@socolumbusprep.org
SUMMARY:Board Meeting
DESCRIPTION:On Agenda: Public Hearing\, Standardized Test Preparation Time Limit\nPublic Hearing\, IDEA Part B Funds
URL:https://socolumbusprep.org/event/board-meeting-6/
LOCATION:South Columbus Preparatory Academy at German Village\, 387 E Beck Street\, Columbus\, OH\, 43206\, United States
CATEGORIES:Calendar Only,School Board
END:VEVENT
END:VCALENDAR