BEGIN:VCALENDAR
VERSION:2.0
PRODID:-//SCPA - ECPv5.16.4//NONSGML v1.0//EN
CALSCALE:GREGORIAN
METHOD:PUBLISH
X-WR-CALNAME:SCPA
X-ORIGINAL-URL:https://socolumbusprep.org
X-WR-CALDESC:Events for SCPA
BEGIN:VTIMEZONE
TZID:America/New_York
BEGIN:DAYLIGHT
TZOFFSETFROM:-0500
TZOFFSETTO:-0400
TZNAME:EDT
DTSTART:20210314T070000
END:DAYLIGHT
BEGIN:STANDARD
TZOFFSETFROM:-0400
TZOFFSETTO:-0500
TZNAME:EST
DTSTART:20211107T060000
END:STANDARD
END:VTIMEZONE
BEGIN:VEVENT
DTSTART;TZID=America/New_York:20210729T170000
DTEND;TZID=America/New_York:20210729T183000
DTSTAMP:20260425T200245
CREATED:20210622T182512Z
LAST-MODIFIED:20210622T182512Z
UID:4599-1627578000-1627583400@socolumbusprep.org
SUMMARY:Back to School Bash
DESCRIPTION:Summer is almost over & it’s time to get ready for the new school year at South Columbus Prep’s Back to School Bash! We will be providing free haircuts for students\, raffling off brand new backpacks and school supplies\, and enjoying the last rays of summer sun with a game truck\, face painting\, bouncy slide\, ice cream truck & more! \nRSVP Today! \nCurrent families\, if you haven’t yet completed the process\, please bring your Proof of Residency document to complete your re-enrollment. \nProspective families who are interested in enrollment may expedite the registration process by coming prepared with the following:\nChild’s Birth Certificate\nProof of Residence\nParent ID (for primary\, custodial parent)\nImmunization Records\nFor more information about these documents\, please visit our Enrollment Resources page.
URL:https://socolumbusprep.org/event/back-school-bash/
LOCATION:South Columbus Preparatory Academy at Southfield\, 3220 Groveport Road\, Columbus\, 43207\, United States
CATEGORIES:Calendar Only,Prospective Families, Events, Home
GEO:39.900718;-82.962531
X-APPLE-STRUCTURED-LOCATION;VALUE=URI;X-ADDRESS=South Columbus Preparatory Academy at Southfield 3220 Groveport Road Columbus 43207 United States;X-APPLE-RADIUS=500;X-TITLE=3220 Groveport Road:geo:-82.962531,39.900718
END:VEVENT
END:VCALENDAR