BEGIN:VCALENDAR
VERSION:2.0
PRODID:-//SCPA - ECPv5.16.4//NONSGML v1.0//EN
CALSCALE:GREGORIAN
METHOD:PUBLISH
X-WR-CALNAME:SCPA
X-ORIGINAL-URL:https://socolumbusprep.org
X-WR-CALDESC:Events for SCPA
BEGIN:VTIMEZONE
TZID:America/New_York
BEGIN:DAYLIGHT
TZOFFSETFROM:-0500
TZOFFSETTO:-0400
TZNAME:EDT
DTSTART:20250309T070000
END:DAYLIGHT
BEGIN:STANDARD
TZOFFSETFROM:-0400
TZOFFSETTO:-0500
TZNAME:EST
DTSTART:20251102T060000
END:STANDARD
END:VTIMEZONE
BEGIN:VEVENT
DTSTART;TZID=America/New_York:20251002T090000
DTEND;TZID=America/New_York:20251002T103000
DTSTAMP:20260424T093245
CREATED:20250923T141340Z
LAST-MODIFIED:20250923T141340Z
UID:9473-1759395600-1759401000@socolumbusprep.org
SUMMARY:Open House
DESCRIPTION:Join us at open house to learn more about our school culture\, academics\, extracurricular programs\, and school services. Meet our staff\, tour our campus & receive registration support.  \nRSVP Today! socolumbusprep.org/events
URL:https://socolumbusprep.org/event/open-house/
LOCATION:South Columbus Preparatory Academy at Southfield\, 3220 Groveport Road\, Columbus\, 43207\, United States
CATEGORIES:Calendar Only,Prospective Families, Events, Home
GEO:39.900718;-82.962531
X-APPLE-STRUCTURED-LOCATION;VALUE=URI;X-ADDRESS=South Columbus Preparatory Academy at Southfield 3220 Groveport Road Columbus 43207 United States;X-APPLE-RADIUS=500;X-TITLE=3220 Groveport Road:geo:-82.962531,39.900718
END:VEVENT
END:VCALENDAR